BEGIN:VCALENDAR
VERSION:2.0
PRODID:-//Rheinwestfälischer EC Verband - ECPv6.15.17.1//NONSGML v1.0//EN
CALSCALE:GREGORIAN
METHOD:PUBLISH
X-ORIGINAL-URL:https://rw-ec.de
X-WR-CALDESC:Veranstaltungen für Rheinwestfälischer EC Verband
REFRESH-INTERVAL;VALUE=DURATION:PT1H
X-Robots-Tag:noindex
X-PUBLISHED-TTL:PT1H
BEGIN:VTIMEZONE
TZID:Europe/Berlin
BEGIN:DAYLIGHT
TZOFFSETFROM:+0100
TZOFFSETTO:+0200
TZNAME:CEST
DTSTART:20250330T010000
END:DAYLIGHT
BEGIN:STANDARD
TZOFFSETFROM:+0200
TZOFFSETTO:+0100
TZNAME:CET
DTSTART:20251026T010000
END:STANDARD
BEGIN:DAYLIGHT
TZOFFSETFROM:+0100
TZOFFSETTO:+0200
TZNAME:CEST
DTSTART:20260329T010000
END:DAYLIGHT
BEGIN:STANDARD
TZOFFSETFROM:+0200
TZOFFSETTO:+0100
TZNAME:CET
DTSTART:20261025T010000
END:STANDARD
BEGIN:DAYLIGHT
TZOFFSETFROM:+0100
TZOFFSETTO:+0200
TZNAME:CEST
DTSTART:20270328T010000
END:DAYLIGHT
BEGIN:STANDARD
TZOFFSETFROM:+0200
TZOFFSETTO:+0100
TZNAME:CET
DTSTART:20271031T010000
END:STANDARD
BEGIN:DAYLIGHT
TZOFFSETFROM:+0100
TZOFFSETTO:+0200
TZNAME:CEST
DTSTART:20280326T010000
END:DAYLIGHT
BEGIN:STANDARD
TZOFFSETFROM:+0200
TZOFFSETTO:+0100
TZNAME:CET
DTSTART:20281029T010000
END:STANDARD
END:VTIMEZONE
BEGIN:VEVENT
DTSTART;VALUE=DATE:20260515
DTEND;VALUE=DATE:20260518
DTSTAMP:20260421T115238
CREATED:20260120T121755Z
LAST-MODIFIED:20260120T121755Z
UID:9993-1778803200-1779062399@rw-ec.de
SUMMARY:Jugger - kämpfen für Zusammenhalt!
DESCRIPTION:
URL:https://rw-ec.de/jugger/
LOCATION:Haus-Friede\, NRW\, Germany
END:VEVENT
BEGIN:VEVENT
DTSTART;VALUE=DATE:20260530
DTEND;VALUE=DATE:20260531
DTSTAMP:20260421T115238
CREATED:20260310T150807Z
LAST-MODIFIED:20260310T150807Z
UID:10071-1780099200-1780185599@rw-ec.de
SUMMARY:Vertreterversammlung & Dankesgrillen
DESCRIPTION:
URL:https://rw-ec.de/kalender/vertreterversammlung-dankesgrillen/
END:VEVENT
BEGIN:VEVENT
DTSTART;VALUE=DATE:20260620
DTEND;VALUE=DATE:20260621
DTSTAMP:20260421T115238
CREATED:20260120T122715Z
LAST-MODIFIED:20260409T080655Z
UID:9999-1781913600-1781999999@rw-ec.de
SUMMARY:Volleyballtag 2026
DESCRIPTION:
URL:https://rw-ec.de/volleyballtag-2026/
LOCATION:Haus-Friede\, NRW\, Germany
END:VEVENT
BEGIN:VEVENT
DTSTART;VALUE=DATE:20260809
DTEND;VALUE=DATE:20260821
DTSTAMP:20260421T115238
CREATED:20260120T122825Z
LAST-MODIFIED:20260130T093239Z
UID:10001-1786233600-1787270399@rw-ec.de
SUMMARY:Next-Level-Sommer
DESCRIPTION:
URL:https://rw-ec.de/next-level-sommer/
LOCATION:Haus-Friede\, NRW\, Germany
END:VEVENT
BEGIN:VEVENT
DTSTART;VALUE=DATE:20261002
DTEND;VALUE=DATE:20261005
DTSTAMP:20260421T115238
CREATED:20260120T123228Z
LAST-MODIFIED:20260324T133729Z
UID:10004-1790899200-1791158399@rw-ec.de
SUMMARY:Get Stronger!
DESCRIPTION:
URL:https://rw-ec.de/get-stronger/
LOCATION:Haus-Friede\, NRW\, Germany
END:VEVENT
BEGIN:VEVENT
DTSTART;VALUE=DATE:20261016
DTEND;VALUE=DATE:20261020
DTSTAMP:20260421T115238
CREATED:20260120T123303Z
LAST-MODIFIED:20260120T123303Z
UID:10006-1792108800-1792454399@rw-ec.de
SUMMARY:EC-Kids Herbstfreizeit
DESCRIPTION:
URL:https://rw-ec.de/kalender/ec-kids-herbstfreizeit/
LOCATION:Haus-Friede\, NRW\, Germany
END:VEVENT
BEGIN:VEVENT
DTSTART;VALUE=DATE:20261227
DTEND;VALUE=DATE:20270102
DTSTAMP:20260421T115238
CREATED:20250604T101745Z
LAST-MODIFIED:20260120T123426Z
UID:9613-1798329600-1798847999@rw-ec.de
SUMMARY:Silvester-Function
DESCRIPTION:
URL:https://rw-ec.de/silvester-function
LOCATION:Haus-Friede\, NRW\, Germany
END:VEVENT
END:VCALENDAR